BEGIN:VCALENDAR
VERSION:2.0
PRODID:SchoolNow
CALSCALE:GREGORIAN
BEGIN:VEVENT
UID:a9a95cb8-84e4-11f0-af28-0afff2eb0a7d
DTSTAMP:20260419T022007Z
SUMMARY:Drama Production 2026
URL;VALUE=URI:https://www.slrsd.org/schools/slrms/calendar/8558380/drama-pr
 oduction-2026
DTSTART:20260327T180000Z
DTEND:20260328T010000Z
END:VEVENT
END:VCALENDAR
