BEGIN:VCALENDAR
VERSION:2.0
PRODID:SchoolNow
CALSCALE:GREGORIAN
BEGIN:VEVENT
UID:92c85202-76c4-11f0-9a88-0a58a9feac02
DTSTAMP:20260419T022007Z
SUMMARY:CTE Open House
URL;VALUE=URI:https://www.slrsd.org/schools/slrms/calendar/8490430/cte-open
 -house
DTSTART:20260204T230000Z
DTEND:20260205T010000Z
END:VEVENT
END:VCALENDAR
