BEGIN:VCALENDAR
VERSION:2.0
PRODID:SchoolNow
CALSCALE:GREGORIAN
BEGIN:VEVENT
UID:e9e4013e-3fde-11f0-8d7d-0a58a9feac02
DTSTAMP:20260419T022007Z
SUMMARY:Early Release - Gr. 7-12
URL;VALUE=URI:https://www.slrsd.org/schools/slrms/calendar/8240973/early-re
 lease-gr-7-12
DTSTART:20260312T143000Z
DTEND:20260312T153000Z
END:VEVENT
END:VCALENDAR
