BEGIN:VCALENDAR
VERSION:2.0
PRODID:SchoolNow
CALSCALE:GREGORIAN
BEGIN:VEVENT
UID:e9e3ffae-3fde-11f0-9c65-0a58a9feac02
DTSTAMP:20260419T022007Z
SUMMARY:Term 3 Mid Term Grades Close
URL;VALUE=URI:https://www.slrsd.org/schools/slrms/calendar/8240972/term-3-m
 id-term-grades-close
DTSTART;VALUE=DATE:20260310
DTEND;VALUE=DATE:20260311
END:VEVENT
END:VCALENDAR
