BEGIN:VCALENDAR
VERSION:2.0
PRODID:SchoolNow
CALSCALE:GREGORIAN
BEGIN:VEVENT
UID:e9e3df56-3fde-11f0-8e15-0a58a9feac02
DTSTAMP:20260421T024007Z
SUMMARY:Martin Luther King Day - No School
URL;VALUE=URI:https://www.slrsd.org/schools/slrms/calendar/8240971/martin-l
 uther-king-day-no-school
DTSTART;VALUE=DATE:20260119
DTEND;VALUE=DATE:20260120
END:VEVENT
END:VCALENDAR
