BEGIN:VCALENDAR
VERSION:2.0
PRODID:SchoolNow
CALSCALE:GREGORIAN
BEGIN:VEVENT
UID:bba015d4-3d7b-11f0-977a-0a58a9feac02
DTSTAMP:20260421T024007Z
SUMMARY:Holiday Vacation
URL;VALUE=URI:https://www.slrsd.org/schools/slrms/calendar/8226059/holiday-
 vacation
DTSTART;VALUE=DATE:20251224
DTEND;VALUE=DATE:20260103
END:VEVENT
END:VCALENDAR
