BEGIN:VCALENDAR
VERSION:2.0
PRODID:SchoolNow
CALSCALE:GREGORIAN
BEGIN:VEVENT
UID:bba014ee-3d7b-11f0-9437-0a58a9feac02
DTSTAMP:20260421T024007Z
SUMMARY:Early Release - Holiday Vacation
URL;VALUE=URI:https://www.slrsd.org/schools/slrms/calendar/8226058/early-re
 lease-holiday-vacation
DTSTART:20251223T153000Z
DTEND:20251223T163000Z
END:VEVENT
END:VCALENDAR
