BEGIN:VCALENDAR
VERSION:2.0
PRODID:SchoolNow
CALSCALE:GREGORIAN
BEGIN:VEVENT
UID:bba00a26-3d7b-11f0-8448-0a58a9feac02
DTSTAMP:20260421T024007Z
SUMMARY:Term 2 Report Cards Issued
URL;VALUE=URI:https://www.slrsd.org/schools/slrms/calendar/8226047/term-2-r
 eport-cards-issued
DTSTART;VALUE=DATE:20260123
DTEND;VALUE=DATE:20260124
END:VEVENT
END:VCALENDAR
