BEGIN:VCALENDAR
VERSION:2.0
PRODID:SchoolNow
CALSCALE:GREGORIAN
BEGIN:VEVENT
UID:b61cd50e-38d2-11f1-80c1-0affdf945733
DTSTAMP:20260420T024007Z
SUMMARY:SEL Night @KES
URL;VALUE=URI:https://www.slrsd.org/schools/kes/calendar/8995869/sel-night-
 kes
DTSTART:20260429T203000Z
DTEND:20260429T220000Z
END:VEVENT
END:VCALENDAR
