BEGIN:VCALENDAR
VERSION:2.0
PRODID:SchoolNow
CALSCALE:GREGORIAN
BEGIN:VEVENT
UID:b85d8108-23d1-11f1-812e-021bcf4f0f45
DTSTAMP:20260420T013007Z
SUMMARY:Kindergarten Open House
URL;VALUE=URI:https://www.slrsd.org/schools/hes/calendar/8931013/kindergart
 en-open-house
DTSTART;VALUE=DATE:20260908
DTEND;VALUE=DATE:20260909
END:VEVENT
END:VCALENDAR
