BEGIN:VCALENDAR
VERSION:2.0
PRODID:SchoolNow
CALSCALE:GREGORIAN
BEGIN:VEVENT
UID:b85d7f50-23d1-11f1-a937-021bcf4f0f45
DTSTAMP:20260420T013007Z
SUMMARY:Kindergarten Screenings
URL;VALUE=URI:https://www.slrsd.org/schools/hes/calendar/8931012/kindergart
 en-screenings
DTSTART;VALUE=DATE:20260902
DTEND;VALUE=DATE:20260904
END:VEVENT
END:VCALENDAR
