BEGIN:VCALENDAR
VERSION:2.0
PRODID:SchoolNow
CALSCALE:GREGORIAN
BEGIN:VEVENT
UID:b85d7e38-23d1-11f1-9457-021bcf4f0f45
DTSTAMP:20260420T013007Z
SUMMARY:Kindergarten Start Date
URL;VALUE=URI:https://www.slrsd.org/schools/hes/calendar/8931011/kindergart
 en-start-date
DTSTART;VALUE=DATE:20260909
DTEND;VALUE=DATE:20260910
END:VEVENT
END:VCALENDAR
