BEGIN:VCALENDAR
VERSION:2.0
PRODID:SchoolNow
CALSCALE:GREGORIAN
BEGIN:VEVENT
UID:ba9fd036-2a22-11f1-a1f9-0a58a9feac02
DTSTAMP:20260424T014507Z
SUMMARY:Silver Lake School Committee - School Choice Hearing
LOCATION:Silver Lake Regional High School\, 260 Pembroke St\, Kingston\, MA
  02364\, USA
URL;VALUE=URI:https://www.slrsd.org/calendar/8950785/silver-lake-school-com
 mittee-school-choice-hearing
DTSTART:20270415T220000Z
DTEND:20270416T000000Z
END:VEVENT
END:VCALENDAR
