BEGIN:VCALENDAR
VERSION:2.0
PRODID:SchoolNow
CALSCALE:GREGORIAN
BEGIN:VEVENT
UID:ba9fcf28-2a22-11f1-bb2f-0a58a9feac02
DTSTAMP:20260424T014507Z
SUMMARY:Plympton School Committee - Public Budget Hearing
LOCATION:Dennett Elementary School\, 80 Crescent St\, Plympton\, MA 02367\,
  USA
URL;VALUE=URI:https://www.slrsd.org/calendar/8950784/plympton-school-commit
 tee-public-budget-hearing
DTSTART:20270222T230000Z
DTEND:20270223T010000Z
END:VEVENT
END:VCALENDAR
