BEGIN:VCALENDAR
VERSION:2.0
PRODID:SchoolNow
CALSCALE:GREGORIAN
BEGIN:VEVENT
UID:ba9fcdde-2a22-11f1-ae86-0a58a9feac02
DTSTAMP:20260424T014507Z
SUMMARY:Kingston School Committee - School Choice Hearing
LOCATION:Kingston Town House\, 26 Evergreen St\, Kingston\, MA 02364\, USA
URL;VALUE=URI:https://www.slrsd.org/calendar/8950783/kingston-school-commit
 tee-school-choice-hearing
DTSTART:20270405T220000Z
DTEND:20270406T000000Z
END:VEVENT
END:VCALENDAR
