BEGIN:VCALENDAR
VERSION:2.0
PRODID:SchoolNow
CALSCALE:GREGORIAN
BEGIN:VEVENT
UID:ba9fcc9e-2a22-11f1-99b1-0a58a9feac02
DTSTAMP:20260424T014507Z
SUMMARY:Plympton School Committee - School Choice Hearing
LOCATION:Dennett Elementary School\, 80 Crescent St\, Plympton\, MA 02367\,
  USA
URL;VALUE=URI:https://www.slrsd.org/calendar/8950782/plympton-school-commit
 tee-school-choice-hearing
DTSTART:20270426T220000Z
DTEND:20270427T000000Z
END:VEVENT
END:VCALENDAR
