BEGIN:VCALENDAR
VERSION:2.0
PRODID:SchoolNow
CALSCALE:GREGORIAN
BEGIN:VEVENT
UID:ba9fca14-2a22-11f1-864c-0a58a9feac02
DTSTAMP:20260424T014507Z
SUMMARY:Silver Lake School Committee - Public Budget Hearing
LOCATION:Silver Lake Regional High School\, 260 Pembroke St\, Kingston\, MA
  02364\, USA
URL;VALUE=URI:https://www.slrsd.org/calendar/8950781/silver-lake-school-com
 mittee-public-budget-hearing
DTSTART:20270211T230000Z
DTEND:20270212T010000Z
END:VEVENT
END:VCALENDAR
