BEGIN:VCALENDAR
VERSION:2.0
PRODID:SchoolNow
CALSCALE:GREGORIAN
BEGIN:VEVENT
UID:ba9fc474-2a22-11f1-aaec-0a58a9feac02
DTSTAMP:20260424T014507Z
SUMMARY:Halifax School Committee
LOCATION:Halifax Elementary School\, 464 Plymouth St\, Halifax\, MA 02338\,
  USA
URL;VALUE=URI:https://www.slrsd.org/calendar/8950780/halifax-school-committ
 ee
DTSTART:20261005T220000Z
DTEND:20261005T230000Z
END:VEVENT
END:VCALENDAR
