BEGIN:VCALENDAR
VERSION:2.0
PRODID:SchoolNow
CALSCALE:GREGORIAN
BEGIN:VEVENT
UID:ba9fbf10-2a22-11f1-844f-0a58a9feac02
DTSTAMP:20260424T014507Z
SUMMARY:Kingston School Committee - Public Budget Hearing
LOCATION:Kingston Town House\, 26 Evergreen St\, Kingston\, MA 02364\, USA
URL;VALUE=URI:https://www.slrsd.org/calendar/8950779/kingston-school-commit
 tee-public-budget-hearing
DTSTART:20270201T230000Z
DTEND:20270202T010000Z
END:VEVENT
END:VCALENDAR
