BEGIN:VCALENDAR
VERSION:2.0
PRODID:SchoolNow
CALSCALE:GREGORIAN
BEGIN:VEVENT
UID:2ab5a84e-2958-11f1-b590-02651a9a2e89
DTSTAMP:20260423T134007Z
SUMMARY:Halifax School Committee
LOCATION:Halifax Elementary School\, 464 Plymouth St\, Halifax\, MA 02338\,
  USA
URL;VALUE=URI:https://www.slrsd.org/calendar/8948033/halifax-school-committ
 ee
DTSTART:20260831T220000Z
DTEND:20260831T230000Z
END:VEVENT
END:VCALENDAR
