BEGIN:VCALENDAR
VERSION:2.0
PRODID:SchoolNow
CALSCALE:GREGORIAN
BEGIN:VEVENT
UID:2ab5a5a6-2958-11f1-b671-02651a9a2e89
DTSTAMP:20260424T014507Z
SUMMARY:Kingston School Committee
LOCATION:Kingston Town House\, 26 Evergreen St\, Kingston\, MA 02364\, USA
URL;VALUE=URI:https://www.slrsd.org/calendar/8948032/kingston-school-commit
 tee
DTSTART:20260921T220000Z
DTEND:20260922T000000Z
END:VEVENT
END:VCALENDAR
