BEGIN:VCALENDAR
VERSION:2.0
PRODID:SchoolNow
CALSCALE:GREGORIAN
BEGIN:VEVENT
UID:2ab59dc2-2958-11f1-b14d-02651a9a2e89
DTSTAMP:20260424T014507Z
SUMMARY:Plympton School Committee
LOCATION:Dennett Elementary School\, 80 Crescent St\, Plympton\, MA 02367\,
  USA
URL;VALUE=URI:https://www.slrsd.org/calendar/8948030/plympton-school-commit
 tee
DTSTART:20260914T220000Z
DTEND:20260915T000000Z
END:VEVENT
END:VCALENDAR
