BEGIN:VCALENDAR
VERSION:2.0
PRODID:SchoolNow
CALSCALE:GREGORIAN
BEGIN:VEVENT
UID:bd8ae62a-27c3-11f1-b2c2-0affdc516faf
DTSTAMP:20260424T014507Z
SUMMARY:Halifax School Committee
LOCATION:Halifax Elementary School\, 464 Plymouth St\, Halifax\, MA 02338\,
  USA
URL;VALUE=URI:https://www.slrsd.org/calendar/8943037/halifax-school-committ
 ee
DTSTART:20270412T220000Z
DTEND:20270412T230000Z
END:VEVENT
END:VCALENDAR
