BEGIN:VCALENDAR
VERSION:2.0
PRODID:SchoolNow
CALSCALE:GREGORIAN
BEGIN:VEVENT
UID:f6d1287c-1332-11f1-b321-0e972391ce7d
DTSTAMP:20260423T134007Z
SUMMARY:Directly following Joint meeting: Silver Lake School Committee Meet
 ing
LOCATION:Silver Lake Regional High School\, 260 Pembroke St\, Kingston\, MA
  02364\, USA
URL;VALUE=URI:https://www.slrsd.org/calendar/8873504/directly-following-joi
 nt-meeting-silver-lake-school-committee-meeting
DTSTART:20260226T223000Z
DTEND:20260227T003000Z
END:VEVENT
END:VCALENDAR
