BEGIN:VCALENDAR
VERSION:2.0
PRODID:SchoolNow
CALSCALE:GREGORIAN
BEGIN:VEVENT
UID:cc13000a-132e-11f1-aee0-02feee850a9b
DTSTAMP:20260423T134007Z
SUMMARY:Updated: Joint Committee of Silver Lake & Superintendency Union#31
LOCATION:GOOGLE MEETING:  LINK is in description below
URL;VALUE=URI:https://www.slrsd.org/calendar/8873501/updated-joint-committe
 e-of-silver-lake-superintendency-union-31
DTSTART:20260226T220000Z
DTEND:20260226T230000Z
END:VEVENT
END:VCALENDAR
