BEGIN:VCALENDAR
VERSION:2.0
PRODID:SchoolNow
CALSCALE:GREGORIAN
BEGIN:VEVENT
UID:b4035944-12d7-11f1-a969-0e2a8ac0ca51
DTSTAMP:20260423T134007Z
SUMMARY:Updated to a google meet:Kingston School Committee
URL;VALUE=URI:https://www.slrsd.org/calendar/8872394/updated-to-a-google-me
 et-kingston-school-committee
DTSTART:20260302T230000Z
DTEND:20260303T010000Z
END:VEVENT
END:VCALENDAR
