BEGIN:VCALENDAR
VERSION:2.0
PRODID:SchoolNow
CALSCALE:GREGORIAN
BEGIN:VEVENT
UID:0bdf721c-0db3-11f1-91d0-0afff8021de1
DTSTAMP:20260423T134007Z
SUMMARY:Preschool graduation
URL;VALUE=URI:https://www.slrsd.org/calendar/8860626/preschool-graduation
DTSTART:20260612T170000Z
DTEND:20260612T180000Z
END:VEVENT
END:VCALENDAR
