BEGIN:VCALENDAR
VERSION:2.0
PRODID:SchoolNow
CALSCALE:GREGORIAN
BEGIN:VEVENT
UID:33b27bd0-0c83-11f1-88bf-0e39de398f45
DTSTAMP:20260424T014507Z
SUMMARY:Plympton School Committee
LOCATION:Dennett Elementary School\, 80 Crescent St\, Plympton\, MA 02367\,
  USA
URL;VALUE=URI:https://www.slrsd.org/calendar/8858538/plympton-school-commit
 tee
DTSTART:20270125T230000Z
DTEND:20270126T010000Z
END:VEVENT
END:VCALENDAR
