BEGIN:VCALENDAR
VERSION:2.0
PRODID:SchoolNow
CALSCALE:GREGORIAN
BEGIN:VEVENT
UID:33b277fc-0c83-11f1-8c47-0e39de398f45
DTSTAMP:20260424T135007Z
SUMMARY:Silver Lake School Committee
URL;VALUE=URI:https://www.slrsd.org/calendar/8858535/silver-lake-school-com
 mittee
DTSTART:20270708T220000Z
DTEND:20270708T230000Z
END:VEVENT
END:VCALENDAR
