BEGIN:VCALENDAR
VERSION:2.0
PRODID:SchoolNow
CALSCALE:GREGORIAN
BEGIN:VEVENT
UID:33b270ae-0c83-11f1-9070-0e39de398f45
DTSTAMP:20260424T014507Z
SUMMARY:Plympton School Committee
LOCATION:Dennett Elementary School\, 80 Crescent St\, Plympton\, MA 02367\,
  USA
URL;VALUE=URI:https://www.slrsd.org/calendar/8858529/plympton-school-commit
 tee
DTSTART:20261019T220000Z
DTEND:20261020T000000Z
END:VEVENT
END:VCALENDAR
