BEGIN:VCALENDAR
VERSION:2.0
PRODID:SchoolNow
CALSCALE:GREGORIAN
BEGIN:VEVENT
UID:33b26cf8-0c83-11f1-912c-0e39de398f45
DTSTAMP:20260424T014507Z
SUMMARY:HES Open House
URL;VALUE=URI:https://www.slrsd.org/calendar/8858526/hes-open-house
DTSTART:20260915T213000Z
DTEND:20260915T230000Z
END:VEVENT
END:VCALENDAR
