BEGIN:VCALENDAR
VERSION:2.0
PRODID:SchoolNow
CALSCALE:GREGORIAN
BEGIN:VEVENT
UID:33b26b86-0c83-11f1-93bf-0e39de398f45
DTSTAMP:20260424T135007Z
SUMMARY:Plympton School Committee
LOCATION:Dennett Elementary School\, 80 Crescent St\, Plympton\, MA 02367\,
  USA
URL;VALUE=URI:https://www.slrsd.org/calendar/8858525/plympton-school-commit
 tee
DTSTART:20270621T220000Z
DTEND:20270622T000000Z
END:VEVENT
END:VCALENDAR
