BEGIN:VCALENDAR
VERSION:2.0
PRODID:SchoolNow
CALSCALE:GREGORIAN
BEGIN:VEVENT
UID:7b757bb2-fe13-11f0-99b6-0a58a9feac02
DTSTAMP:20260423T134007Z
SUMMARY:SLRHS CTE HS Open House
URL;VALUE=URI:https://www.slrsd.org/calendar/8847121/slrhs-cte-hs-open-hous
 e
DTSTART:20260204T230000Z
DTEND:20260205T010000Z
END:VEVENT
END:VCALENDAR
