BEGIN:VCALENDAR
VERSION:2.0
PRODID:SchoolNow
CALSCALE:GREGORIAN
BEGIN:VEVENT
UID:a86ddf3e-fde0-11f0-8a8b-0afffecfc5c5
DTSTAMP:20260423T134007Z
SUMMARY:Kingston School Committee - Public Budget hearing - online
LOCATION:Google Meet joining info Video call link: https://meet.google.com/
 zdd-xuay-wpk Or dial: ‪(US) +1 402-623-0129‬ PIN: ‪962 311 158‬# M
 ore phone numbers: https://tel.meet/zdd-xuay-wpk?pin=2083515432196
URL;VALUE=URI:https://www.slrsd.org/calendar/8846897/kingston-school-commit
 tee-public-budget-hearing-online
DTSTART:20260202T230000Z
DTEND:20260203T010000Z
END:VEVENT
END:VCALENDAR
