BEGIN:VCALENDAR
VERSION:2.0
PRODID:SchoolNow
CALSCALE:GREGORIAN
BEGIN:VEVENT
UID:04ff907c-0a7f-11f0-ac66-0a58a9feac02
DTSTAMP:20260423T134007Z
SUMMARY:Plympton School Committee Meeting
LOCATION:Dennett Elementary School\, 80 Crescent St\, Plympton\, MA 02367\,
  USA
URL;VALUE=URI:https://www.slrsd.org/calendar/7779700/plympton-school-commit
 tee-meeting
DTSTART:20260309T220000Z
DTEND:20260310T000000Z
END:VEVENT
END:VCALENDAR
