BEGIN:VCALENDAR
VERSION:2.0
PRODID:SchoolNow
CALSCALE:GREGORIAN
BEGIN:VEVENT
UID:04ff8f82-0a7f-11f0-a870-0a58a9feac02
DTSTAMP:20260423T134007Z
SUMMARY:Plympton School Committee Meeting - Public Budget Hearing
LOCATION:Dennett Elementary School\, 80 Crescent St\, Plympton\, MA 02367\,
  USA
URL;VALUE=URI:https://www.slrsd.org/calendar/7779699/plympton-school-commit
 tee-meeting-public-budget-hearing
DTSTART:20260209T230000Z
DTEND:20260210T010000Z
END:VEVENT
END:VCALENDAR
