BEGIN:VCALENDAR
VERSION:2.0
PRODID:SchoolNow
CALSCALE:GREGORIAN
BEGIN:VEVENT
UID:04ff8e74-0a7f-11f0-a574-0a58a9feac02
DTSTAMP:20260423T134007Z
SUMMARY:Plympton School Committee Meeting
LOCATION:Dennett Elementary School\, 80 Crescent St\, Plympton\, MA 02367\,
  USA
URL;VALUE=URI:https://www.slrsd.org/calendar/7779698/plympton-school-commit
 tee-meeting
DTSTART:20260112T230000Z
DTEND:20260113T010000Z
END:VEVENT
END:VCALENDAR
