BEGIN:VCALENDAR
VERSION:2.0
PRODID:SchoolNow
CALSCALE:GREGORIAN
BEGIN:VEVENT
UID:04c5624e-0a7f-11f0-91f5-0a58a9feac02
DTSTAMP:20260423T134007Z
SUMMARY:Kingston School Committee
LOCATION:Kingston Town House\, 26 Evergreen St\, Kingston\, MA 02364\, USA
URL;VALUE=URI:https://www.slrsd.org/calendar/7779693/kingston-school-commit
 tee
DTSTART:20260601T220000Z
DTEND:20260602T000000Z
END:VEVENT
END:VCALENDAR
