BEGIN:VCALENDAR
VERSION:2.0
PRODID:SchoolNow
CALSCALE:GREGORIAN
BEGIN:VEVENT
UID:04c55ed4-0a7f-11f0-9f66-0a58a9feac02
DTSTAMP:20260423T134007Z
SUMMARY:Kingston School Committee
LOCATION:Kingston Town House\, 26 Evergreen St\, Kingston\, MA 02364\, USA
URL;VALUE=URI:https://www.slrsd.org/calendar/7779689/kingston-school-commit
 tee
DTSTART:20260105T230000Z
DTEND:20260106T010000Z
END:VEVENT
END:VCALENDAR
