BEGIN:VCALENDAR
VERSION:2.0
PRODID:SchoolNow
CALSCALE:GREGORIAN
BEGIN:VEVENT
UID:04c512ee-0a7f-11f0-9005-0a58a9feac02
DTSTAMP:20260423T134007Z
SUMMARY:Silver Lake School Committee Meeting - Public Budget Hearing
LOCATION:Silver Lake Regional High School\, 260 Pembroke St\, Kingston\, MA
  02364\, USA
URL;VALUE=URI:https://www.slrsd.org/calendar/7779679/silver-lake-school-com
 mittee-meeting-public-budget-hearing
DTSTART:20260205T230000Z
DTEND:20260206T010000Z
END:VEVENT
END:VCALENDAR
