BEGIN:VCALENDAR
VERSION:2.0
PRODID:SchoolNow
CALSCALE:GREGORIAN
BEGIN:VEVENT
UID:04c51212-0a7f-11f0-bcfc-0a58a9feac02
DTSTAMP:20260423T134007Z
SUMMARY:Silver Lake School Committee Meeting - Large Group Room
LOCATION:Silver Lake Regional High School\, 260 Pembroke St\, Kingston\, MA
  02364\, USA
URL;VALUE=URI:https://www.slrsd.org/calendar/7779678/silver-lake-school-com
 mittee-meeting-large-group-room
DTSTART:20260108T230000Z
DTEND:20260109T010000Z
END:VEVENT
END:VCALENDAR
