BEGIN:VCALENDAR
VERSION:2.0
PRODID:SchoolNow
CALSCALE:GREGORIAN
BEGIN:VEVENT
UID:187e853e-08e7-11f0-8efc-0a58a9feac02
DTSTAMP:20260423T134007Z
SUMMARY:Independence Day
URL;VALUE=URI:https://www.slrsd.org/calendar/7762896/independence-day
DTSTART;VALUE=DATE:20260704
DTEND;VALUE=DATE:20260705
END:VEVENT
END:VCALENDAR
