BEGIN:VCALENDAR
VERSION:2.0
PRODID:SchoolNow
CALSCALE:GREGORIAN
BEGIN:VEVENT
UID:187e8462-08e7-11f0-bd98-0a58a9feac02
DTSTAMP:20260423T134007Z
SUMMARY:Independence Day (substitute)
URL;VALUE=URI:https://www.slrsd.org/calendar/7762895/independence-day-subst
 itute
DTSTART;VALUE=DATE:20260703
DTEND;VALUE=DATE:20260704
END:VEVENT
END:VCALENDAR
