BEGIN:VCALENDAR
VERSION:2.0
PRODID:SchoolNow
CALSCALE:GREGORIAN
BEGIN:VEVENT
UID:187e82b4-08e7-11f0-a9d8-0a58a9feac02
DTSTAMP:20260423T134007Z
SUMMARY:Memorial Day
URL;VALUE=URI:https://www.slrsd.org/calendar/7762893/memorial-day
DTSTART;VALUE=DATE:20260525
DTEND;VALUE=DATE:20260526
END:VEVENT
END:VCALENDAR
