BEGIN:VCALENDAR
VERSION:2.0
PRODID:SchoolNow
CALSCALE:GREGORIAN
BEGIN:VEVENT
UID:187e81d8-08e7-11f0-bd84-0a58a9feac02
DTSTAMP:20260423T134007Z
SUMMARY:Spring Vacation
URL;VALUE=URI:https://www.slrsd.org/calendar/7762892/spring-vacation
DTSTART:20260420T113000Z
DTEND:20260424T123000Z
END:VEVENT
END:VCALENDAR
