BEGIN:VCALENDAR
VERSION:2.0
PRODID:SchoolNow
CALSCALE:GREGORIAN
BEGIN:VEVENT
UID:187e8106-08e7-11f0-824e-0a58a9feac02
DTSTAMP:20260423T134007Z
SUMMARY:Good Friday - No School
URL;VALUE=URI:https://www.slrsd.org/calendar/7762891/good-friday-no-school
DTSTART:20260403T130000Z
DTEND:20260403T150000Z
END:VEVENT
END:VCALENDAR
