BEGIN:VCALENDAR
VERSION:2.0
PRODID:SchoolNow
CALSCALE:GREGORIAN
BEGIN:VEVENT
UID:187e802a-08e7-11f0-8635-0a58a9feac02
DTSTAMP:20260423T134007Z
SUMMARY:In-service for Teachers - No School
URL;VALUE=URI:https://www.slrsd.org/calendar/7762890/in-service-for-teacher
 s-no-school
DTSTART;VALUE=DATE:20260223
DTEND;VALUE=DATE:20260224
END:VEVENT
END:VCALENDAR
