BEGIN:VCALENDAR
VERSION:2.0
PRODID:SchoolNow
CALSCALE:GREGORIAN
BEGIN:VEVENT
UID:187e7e68-08e7-11f0-a311-0a58a9feac02
DTSTAMP:20260423T134007Z
SUMMARY:Winter Vacation
URL;VALUE=URI:https://www.slrsd.org/calendar/7762888/winter-vacation
DTSTART:20260216T133000Z
DTEND:20260220T143000Z
END:VEVENT
END:VCALENDAR
