BEGIN:VCALENDAR
VERSION:2.0
PRODID:SchoolNow
CALSCALE:GREGORIAN
BEGIN:VEVENT
UID:187e7d50-08e7-11f0-b540-0a58a9feac02
DTSTAMP:20260423T134007Z
SUMMARY:Martin Luther King Jr. Day
URL;VALUE=URI:https://www.slrsd.org/calendar/7762887/martin-luther-king-jr-
 day
DTSTART;VALUE=DATE:20260119
DTEND;VALUE=DATE:20260120
END:VEVENT
END:VCALENDAR
