BEGIN:VCALENDAR
VERSION:2.0
PRODID:SchoolNow
CALSCALE:GREGORIAN
BEGIN:VEVENT
UID:187e7c74-08e7-11f0-9dd3-0a58a9feac02
DTSTAMP:20260423T134007Z
SUMMARY:Holiday Vacation
URL;VALUE=URI:https://www.slrsd.org/calendar/7762886/holiday-vacation
DTSTART:20251224T140000Z
DTEND:20260102T150000Z
END:VEVENT
END:VCALENDAR
